BEGIN:VCALENDAR
VERSION:2.0
PRODID:gruene-bad-salzuflen.de
METHOD:PUBLISH
BEGIN:VTIMEZONE
TZID:Europe/Berlin
X-LIC-LOCATION:Europe/Berlin
BEGIN:DAYLIGHT
TZOFFSETFROM:+0100
TZOFFSETTO:+0200
TZNAME:CEST
DTSTART:19700329T020000
RRULE:FREQ=YEARLY;INTERVAL=1;BYDAY=-1SU;BYMONTH=3
END:DAYLIGHT
BEGIN:STANDARD
TZOFFSETFROM:+0200
TZOFFSETTO:+0100
TZNAME:CET
DTSTART:19701025T030000
RRULE:FREQ=YEARLY;INTERVAL=1;BYDAY=-1SU;BYMONTH=10
END:STANDARD
END:VTIMEZONE
BEGIN:VEVENT
UID:<span class="__eae_r13">s8n1790n9666s75q5s19131038s70695@tehrar-onq-fnymhsyra.qr</span>
URL;VALUE=URI:https://gruene-bad-salzuflen.de/termine/aok-firmenlauf-lipp
 e/
LOCATION:
SUMMARY:AOK-Firmenlauf Lippe
DESCRIPTION;ALTREP="data:text/html,%0A%3Cp%3EWir%20sind%20wieder%20als%20
 Team%20dabei%21%20Die%205%2C5%20km%20Strecke%20f%C3%BChrt%20durch%20den%2
 0Landschaftspark%20und%20das%20Rahmenprogramm%20%26amp%3B%20die%20Moderat
 ion%20beginnen%20um%2017.30%20Uhr.%20Die%20Anmeldung%20als%20Team%20nimmt
 %20der%20KV%20Lippe%20bis%20zum%2015.%20April%20entgegen%20unter%20info%4
 0gruene-lippe.de%20%3C%2Fp%3E%0A":Wir sind wieder als Team dabei! Die 5\,
 5 km Strecke führt durch den Landschaftspark und das Rahmenprogramm & di
 e Moderation beginnen um 17.30 Uhr. Die Anmeldung als Team nimmt der KV L
 ippe bis zum 15. April entgegen unter <span class="__eae_r13">vasb@tehrar-yvccr.qr</span>
CLASS:PUBLIC
DTSTART;TZID=Europe/Berlin:20260508T173000
DTEND;TZID=Europe/Berlin:20260508T220000
DTSTAMP:20260421T081515
END:VEVENT
END:VCALENDAR